BEGIN:VCALENDAR
VERSION:2.0
PRODID:-//Coacheck - ECPv6.15.20//NONSGML v1.0//EN
CALSCALE:GREGORIAN
METHOD:PUBLISH
X-ORIGINAL-URL:https://www.coacheck.de
X-WR-CALDESC:Veranstaltungen für Coacheck
REFRESH-INTERVAL;VALUE=DURATION:PT1H
X-Robots-Tag:noindex
X-PUBLISHED-TTL:PT1H
BEGIN:VTIMEZONE
TZID:Europe/Berlin
BEGIN:DAYLIGHT
TZOFFSETFROM:+0100
TZOFFSETTO:+0200
TZNAME:CEST
DTSTART:20250330T010000
END:DAYLIGHT
BEGIN:STANDARD
TZOFFSETFROM:+0200
TZOFFSETTO:+0100
TZNAME:CET
DTSTART:20251026T010000
END:STANDARD
BEGIN:DAYLIGHT
TZOFFSETFROM:+0100
TZOFFSETTO:+0200
TZNAME:CEST
DTSTART:20260329T010000
END:DAYLIGHT
BEGIN:STANDARD
TZOFFSETFROM:+0200
TZOFFSETTO:+0100
TZNAME:CET
DTSTART:20261025T010000
END:STANDARD
BEGIN:DAYLIGHT
TZOFFSETFROM:+0100
TZOFFSETTO:+0200
TZNAME:CEST
DTSTART:20270328T010000
END:DAYLIGHT
BEGIN:STANDARD
TZOFFSETFROM:+0200
TZOFFSETTO:+0100
TZNAME:CET
DTSTART:20271031T010000
END:STANDARD
END:VTIMEZONE
BEGIN:VEVENT
DTSTART;VALUE=DATE:20260613
DTEND;VALUE=DATE:20260615
DTSTAMP:20260423T010433
CREATED:20200124T171717Z
LAST-MODIFIED:20260126T174910Z
UID:23826-1781308800-1781481599@www.coacheck.de
SUMMARY:OMKO 2026
DESCRIPTION:  \n		\n		 			  \n			 days\n				0\n				0\n			\n			 hours\n				0\n				0\n			\n			 minutes\n				0\n				0\n			\n			 seconds\n				0\n				0\n			\n		\n		\n				\n\n		\nTage             Std.             Min.             Sek.   \n  \n► Weitere Informationen zum Event \nOMKO 2026\nDer OMKO 2026 – Onlinemarketingkongress findet am 13. und 14. Juni 2026 in Bad Soden am Taunus statt. \nRückblick: OMKO 2022\nMit dem OMKO 2022 findet das 5. No-Pitch-Event auch dieses Jahr wieder im Oldtimer Museum in Ingolstadt statt. An dem Wochenende 28. und 29. Mai treffen sich wieder die Größen der Online Marketing Branche\, um über aktuelle Trends zu referieren\, was im Jahr 2022 funktioniert und noch vieles mehr. \nDer OMKO 2020\, der für den 07. und 08. November angesetzt war\, musste aufgrund der Corona Krise leider ausfallen bzw. auf 2021 verschoben werden. \nDas war der OMKO 2018: \nDieses Video auf YouTube ansehen \nSpeaker 2026\nDas sind die Speaker für das Event 2026: \nMarkus Baulig\, Patrick Wind\, Andreas Klar\, Daniel Huchler\, Mario Lueddemann\, Paul Misar\, Prof. Dr. Oliver Pott\, Pascal Feyh\, Sebastian Glöckner\, Annette Glöckner\, Dominik Goerke\, Achim Heyne\, Philipp Krug\, Lukas Kalnbach\, Stefan Müller\, Patrick Prangenberg\, Danny Mittenzwey\, Ruben Schäfer\, Bastian Schmidt\, Patrick Zimmer\, Cristina Eggemann\, Joschi Haunsperger\, Tibor Mink\, René Rink\, Niki Willer\, Deborah Wabbel\, Niels Wagner\, Ulrich Kammerer\, Kerstin Scherer\, Sebastian Radatz\, Irek Gronert\, Djurat Sherzad\, Roman Firnkranz\, Alexander Krunic\, Yusuf Ünal\, Christian Riebel\, Notash Taheri\, Björn Wittmaack\, Dr. Alina Behne\, Nicole Schneider-Grain\, Alireza Zokaifar\, Shelea Al-Jaaf\, Mobin Habibi\, Jakob Cesarz \nDas waren die Speaker der OMKO 2025: \nMarkus Baulig\, Patrick Wind\, Andreas Klar\, Daniel Huchler\, Mario Lueddemann\, Paul Misar\, Prof. Dr. Oliver Pott\, Pascal Feyh\, Sebastian und Annette Glöckner\, Dominik Goerke\, Achim Heyne\, Philipp Krug\, Lukas Kalnbach\, Stefan Müller\, Patrick Prangenberg\, Danny Mittenzwey\, Ruben Schäfer\, Alexander Bünk\, Patrick Zimmer\, Cristina Eggemann\, Joschi Haunsperger\, Tibor Mink\, René Rink\, Niki Willer\, Deborah Wabbel\, Niels Wagner und Ulrich Kammerer \nErfahrungen\nHier kommen einige Speaker und Teilnehmer der OMKO zu Wort und berichten über ihre Erfahrungen auf der Veranstaltung: \nAlex Fischer: \nDieses Video auf YouTube ansehen \nDer OMKO ist praktisch das Dinosaurier Event unter den Online Marketing Events mit dem Dinosaurier Joschi. Da müsst ihr einfach dabei sein. Der Bayrische Abend\, voll nach vorne\, coole Leute\, coole Speaker und nicht nur Junggemüse. \nAndré Loibl: \nDieses Video auf YouTube ansehen \nDas Besondere am OMKO ist vor allen Dingen die Atmosphäre. Das heißt es ist sehr familiär\, es ist nicht so steif sag ich mal\, sondern man kommt eigentlich mit jedem sehr einfach ins Gespräch. Es ist eine sehr gute Gelegenheit\, um echtes netzwerken zu machen\, das heißt sich wirklich mit den Leuten zu unterhalten\, sich auszutauschen. \nUnd das ist etwas\, das den OMKO sehr besonders macht\, weil man einfach die Menschen auch wirklich kennenlernen kann. \nIch empfehle den OMKO jedem\, der sein Business starten will und sagt ok\, ich möchte vielleicht eine Abkürzung haben. Das heißt ich muss nicht alles selber probieren\, sondern mich mit Menschen austauschen\, die den Weg schon gegangen sind. \nOder aber auch Leuten\, die schon unterwegs sind\, einfach weil man hier auch Menschen trifft\, die eben auch schon unterwegs sind und mit denen kann man sich sehr gut austauschen. \nManuel Gonzalez: \nDieses Video auf YouTube ansehen \nHi\, mein Name ist Manuel Gonzalez und ich bin Speaker gewesen hier auf dem OMKO heute und das ist ein sehr spannendes Event\, ganz besonders auch weil Joschi\, der das organisiert hat auch ein ganz spannender Charakter ist. Was man bei ihm wertschätzen kann\, was bei vielen anderen vielleicht fehlt ist diese Menschlichkeit und dabei so ein professionelles Level zu haben\, das ist einzigartig. \nUnd das merkt man auch bei der Veranstaltung. Man hat sehr professionelle Gäste da\, die gleichzeitig aber auch auf einem zwischenmenschlich super angenehmen Niveau zusammen kommen. Wenn man etwas lernen will und das verbinden möchte mit einer guten Zeit\, dann gibt es einmal im Jahr ein Wochenende\, wo man nirgends anders sein darf als in Ingolstadt beim Joschi. \nChristoph Gruhn: \nDieses Video auf YouTube ansehen \nAlso OMKO ist für mich in vielerlei Hinsicht sehr sehr cool. Aber das was mir eigentlich am besten gefällt ist\, dass die Differenz zwischen den Speakern und den Teilnehmern sehr sehr klein ist. Wir sind eine sehr enge Familie\, wir haben sehr viel miteinander zu tun. Es gibt in den Pausen immer wieder Kontaktmöglichkeiten. Auch die Keynote Speaker können sich direkt unter die Teilnehmer mischen und ja\, man so eine homogene Masse sage ich mal. \nDen Joschi kenne ich sehr sehr gut\, schon von Beginn an meiner Internet Karriere. Er ist für mich ein absolut integrer Geschäftsmann\, ist als Organisator des OMKO natürlich ungeschlagen\, er holt hier die Leute nach Ingolstadt\, was absolut tiefste Provinz ist. Niemand würde sonst hierher kommen freiwillig\, behaupte ich jetzt mal\, aus dem Norden. Aber wir haben irre viele Teilnehmer auch aus Hamburg\, aus Bielefeld\, Köln\, die den weiten Weg auf sich nehmen. \nUnd ich glaube das liegt nicht nur an den Speakern\, sondern das liegt vor allem auch an der Person Joschi Haunsperger. \nTickets\n\nPremium Ticket150 € / statt 399 €  \n\nZugang zum Event an beiden Tagen\nZugang zu allen Vorträgen\nKomfortabler Sitzplatz\n\nTicket sichern \nPlatinum Ticket450 € / statt 699 €  \n\nAlle Vorteile des Premium-Tickets und zusätzlich:\nReservierter Sitzplatz direkt hinter VIP\nAusgewähltes Seminarpaket mit vielen zusätzlichen Unterlagen\nAlle Vorträge gesammelt als Datei nach dem OMKO\nTop-Gelegenheit auf Austausch mit Speakern\nBevorzugter Check-in\nBonusgeschenke\n\nTicket sichern \nVIP Ticket650 € / statt 1.499 €  \n\nAlle Vorteile des Platinum-Tickets und zusätzlich:\nReservierter VIP-Sitzplatz\n2 Tage Zugang zur VIP-Lounge inkl. Getränke\, Kaffee\, Snacks\, Essen\nPro Tag 1x Gourmet-Mittagessen als Buffet in der exklusiven VIP Lounge\nPersönlicher Ansprechpartner\nVorträge von allen Speakern als Video\nGespräche mit anderen VIP-Gästen und Premium-Speakern im ganz kleinen Kreis am Roundtable\nFast-Lane-Einlass\nSpeakers Corner: Einmalige Möglichkeit sich mit dem Moderator und den Speakern auszutauschen\nRatenzahlung möglich\n\nTicket sichern\n\nRabatt Gutschein\nWenn du beim Kauf deines Tickets ordentlich sparen möchtest\, dann solltest du dir möglichst frühzeitig dein Ticket holen\, um noch von den Early Bird Preisen profitieren zu können. So kostet das Premium-Ticket beispielsweise nur 150\,- € statt der regulären 399\,- €. Einen Gutschein Code oder ähnliches benötigst du hierfür nicht. Der jeweils gültige Aktionspreis ist bereits im Bestellprozess automatisch hinterlegt\, sodass du keinen Gutscheincode mehr eingeben musst. \nDie aktuellen Ticket Preise und momentan laufende Rabatt Aktionen erfährst du hier: \n► Gutschein Infos abrufen \nOMKO Award\nIm Jahr 2019 wurde erstmals der OMKO Award verliehen. Diese Auszeichnung ehrt in verschiedenen Kategorien unter anderem den besten Online Marketer\, den Newcomer\, den erfolgreichsten Affiliate des Jahres. Für sein Lebenswerk wird zudem der Evergreen OMKO Award verliehen. Am Ende der Veranstaltung wird dann noch der OMKO-Viktor für den besten Speaker des Wochenendes vergeben. \nUnd das waren die Nominierten für 2020: \nBester Onlinemarketer \n\nDawid Przybylski\nOliver Schmuck\nRalf Schmitz\nRene Rink\nSergej Heck\nStevka Scheel\nTommy Seewald & Sven Hansen\nTorsten Jaeger\n\nBester Vertrieb \n\nAlex Fischer\nMarcel Schlee\nSamer Mohamad\nUwe Rieder\n\nBester Newcomer \n\nAdrian Giger\nChristine Weismayer\nDie Werlichs\nJens Neubeck\n\nBester Coach \n\nFrank Alm\nDr. Oliver Pott\nPascal Feyh\n\nSocial Media \n\nHanshans Frühsammer\nManuel Gonzalez\nPatrick Greiner\nRobert Nabenhauer\n\nLebenswerk \n\nDirk Kreuter\nErnst Crameri\nHermann Scherer\nJürgen Höller\nOliver Geisselhart\n\nWeitere Informationen\nNähere Informationen findest Du auf der Webseite der Veranstaltung: \n \n► Weitere Informationen zum Event \n  \nwww.omko.biz \n 
URL:https://www.coacheck.de/event/omko/
LOCATION:H+ Hotel Bad Soden\, Königsteiner Str. 88\, Bad Soden am Taunus\, 65812
CATEGORIES:Online Marketing
ATTACH;FMTTYPE=image/png:https://www.coacheck.de/wp-content/uploads/2018/12/OMKO-Logo.png
END:VEVENT
END:VCALENDAR