BEGIN:VCALENDAR
VERSION:2.0
PRODID:-//Coacheck - ECPv6.15.20//NONSGML v1.0//EN
CALSCALE:GREGORIAN
METHOD:PUBLISH
X-WR-CALNAME:Coacheck
X-ORIGINAL-URL:https://www.coacheck.de
X-WR-CALDESC:Veranstaltungen für Coacheck
REFRESH-INTERVAL;VALUE=DURATION:PT1H
X-Robots-Tag:noindex
X-PUBLISHED-TTL:PT1H
BEGIN:VTIMEZONE
TZID:Europe/Berlin
BEGIN:DAYLIGHT
TZOFFSETFROM:+0100
TZOFFSETTO:+0200
TZNAME:CEST
DTSTART:20250330T010000
END:DAYLIGHT
BEGIN:STANDARD
TZOFFSETFROM:+0200
TZOFFSETTO:+0100
TZNAME:CET
DTSTART:20251026T010000
END:STANDARD
BEGIN:DAYLIGHT
TZOFFSETFROM:+0100
TZOFFSETTO:+0200
TZNAME:CEST
DTSTART:20260329T010000
END:DAYLIGHT
BEGIN:STANDARD
TZOFFSETFROM:+0200
TZOFFSETTO:+0100
TZNAME:CET
DTSTART:20261025T010000
END:STANDARD
BEGIN:DAYLIGHT
TZOFFSETFROM:+0100
TZOFFSETTO:+0200
TZNAME:CEST
DTSTART:20270328T010000
END:DAYLIGHT
BEGIN:STANDARD
TZOFFSETFROM:+0200
TZOFFSETTO:+0100
TZNAME:CET
DTSTART:20271031T010000
END:STANDARD
END:VTIMEZONE
BEGIN:VEVENT
DTSTART;VALUE=DATE:20261111
DTEND;VALUE=DATE:20261113
DTSTAMP:20260423T060814
CREATED:20230418T164550Z
LAST-MODIFIED:20260126T195554Z
UID:32156-1794355200-1794527999@www.coacheck.de
SUMMARY:This Is Marketing 2026
DESCRIPTION:  \n		\n		 			  \n			 days\n				0\n				0\n			\n			 hours\n				0\n				0\n			\n			 minutes\n				0\n				0\n			\n			 seconds\n				0\n				0\n			\n		\n		\n				\n\n		\nTage             Std.             Min.             Sek.   \n  \n► Weitere Informationen zum Event \n  \nMehr als 5.000 Teilnehmer werden dieses Jahr auf dem Top Marketing Event This Is Marketing 2026 erwartet. Über 150 Aussteller und 80 Speaker geben alles\, um die neuesten Marketing Strategien und Hacks zu präsentieren. 2026 wird es bereits die 7. Runde dieses beliebten Events. \nSchnell sein lohnt sich: Mit den Early Bird Tickets bekommst du bis zu 50% Rabatt! \nThis Is Marketing 2026 – Frankfurt am Main\nBereits zum 6. Mal findet das mittlerweile legendäre Online-Marketing-Event statt. An diesem Wochenende treffen sich erneut die besten internationalen Online Marketer als Referenten\, um ihre neuesten Erkenntnisse zu teilen. Sie werden von Ausstellern und Anbietern der Branche\, Online-Marketing-Profis\, Unternehmern und Interessierten begleitet. \nDas Messegelände bietet Platz für bis zu 5.000 Teilnehmer an beiden Tagen\, die sich auf #thisismarketing freuen können. Tickets sind ab sofort verfügbar! \nHier findest du alle Fakten kurz und knapp zusammengefasst: \n\nDatum: 11. bis 12. November 2026\nOrt: Messe Forum in Frankfurt am Main\nVeranstalter: Marcel Knopf (Fastlane Marketing GmbH)\nPreis: ab 89 €\n\nInsights und Themen\n\nWerbestrategien für Google\, Youtube\, TikTok\, Facebook\, Instagram und LinkedIn\nConversion-Optimierung\, Webseiten-Aufbau\, Funnel-Marketing\nVorlagen für dein Recruiting und Employer Branding\nWebinare als Schlüssel für deutlich mehr Umsatz\nE-Mail-Marketing per Autopilot\nCase Studies aus dem Ecommerce\nVerkaufstexte & Content-Marketing\nWichtige Bausteine für die erfolgreiche Positionierung und Skalierung deines Unternehmens\n…und noch vieles\, vieles mehr!\n\nKosten & Event Tickets 2026\nENTRANCE PASS\n89 € anstatt 399 € Early Bird Ticket\n\nZutritt zum Event für das komplette Wochenende\nAlle Vorträge live erleben\nZutritt zur Messefläche\n\nPREMIUM PASS\n119 € anstatt 499 € Early Bird Ticket\n\nZutritt zum Event für das komplette Wochenende\nAlle Vorträge live erleben\nZutritt zur Messefläche\nExklusive Platzierung in den vorderen Reihen\nKostenloser Zugriff auf die Aufzeichnungen des Events\n\nPLATIN PASS (VIP)\n599 € anstatt 1.799 € Early Bird Ticket\n\nZutritt zum Event für das komplette Wochenende\nAlle Vorträge live erleben\nZutritt zur Messefläche\nBeste Platzierung in den vordersten Reihen\nKostenloser Zugriff auf die Aufzeichnungen des Events\nZugang zum VIP-Raum mit Möglichkeit zum Austausch mit den Referenten\nTeilnahme an der exklusiven VIP-Afterparty am Samstagabend\nLunchbuffet\, Getränke und Kaffeepausen\n\n\n> Early Bird Ticket Rabatt sichern << \n\nThis is Marketing Speaker 2026\n2026 sind diese Speaker dabei: \nNick Shackelford\, Philipp Westermeyer\, Julia Bösch\, Jack Nasher\, Sarah Emmerich\, Andreas Baulig\, Rik Strubel\, Tolga Önal\, Marcel Knopf\, Alisa Jahnke\, Sam Hänni\, Simon Mader\, Dr. Michael J. Kloep\, Luisa Knopf\, Jonas Eisert\, Jason Fladlien\, Randolph Moreno Sommer\, Felix Anrich\, Sebastian Szalinski\, Karo Kauer und weitere… \n2025 waren diese Experten mit dabei: \nJudith Williams\, Philipp Westermeyer\, Lara Sophie Bothur\, Christian Steiger\, Emma-Isadora Hagen\, Adis Pezerovic\, Maša Schmidt\, Sebastian Szalinski\, Andreas Baulig\, Maximilian Saal\, Eric Steigner\, Lea Wagner\, Marcel Knopf\, Luisa Knopf \nGutschein und Rabatt Aktionen\nAktuell gibt es die Tickets zu einem Early Bird Preis.\nDie Early Bird Tickets (50% Rabatt) sind zeitlich begrenzt. \nBewertung und Erfahrungen\nThis is Marketing würde ich auf jeden Fall weiterempfehlen\, für mich war das hier wirklich ein sehr inspirierendes Erlebnis. Ich denke\, This is Marketing ist für alle interessant\, die sich mit Online Marketing beschäftigen und auf die neuesten Trends setzen wollen.\nDr. Georg Kofler\nIch find es toll\, dass an einem Samstagmorgen um 8 Uhr so viele Menschen zusammenkommen\, die Bock haben\, die sich rausgeputzt haben und die einfach wissbegierig sind und deswegen finde ich dahingehend\, TIM wirklich ne tolle\, tolle Veranstaltung. Ich komm ja aus dem Bankenwesen\, das waren immer richtige Schlafmützen-Veranstaltungen und deswegen sowas junges\, erfrischendes\, finde ich toll – sehr gute Arbeit TIM-Team.\nJohannes Kliesch\nIch finds cool\, dass die Veranstalter hier wirklich keine Kosten und Mühen gescheut haben\, man wird hier super krass behandelt\, alles mega krass durch strukturiert und ich finde es extrem heftig was hier für Leute her gekarrt werden an Speakern wie das hier alles aufgebaut ist\, das ist wirklich ein großes Event – und das finde ich schon ne krasse Leistung. Da steckt schon einiges an Marketing-Power dahinter.\nSimon Mader\nWeitere Informationen\nNähere Informationen findest Du auf der Webseite der Veranstaltung: \n \n► Weitere Informationen zum Event \n 
URL:https://www.coacheck.de/event/this-is-marketing/
LOCATION:Forum Messe Frankfurt\, Ludwig-Erhard-Anlage 1\, Frankfurt am Main\, Hessen\, 60327\, Deutschland
CATEGORIES:Digital Marketing,Marketing
ATTACH;FMTTYPE=image/jpeg:https://www.coacheck.de/wp-content/uploads/2023/04/This-Is-Marketing-2025-Bild-web.jpg
END:VEVENT
END:VCALENDAR