BEGIN:VCALENDAR
VERSION:2.0
PRODID:-//Coacheck - ECPv6.15.20//NONSGML v1.0//EN
CALSCALE:GREGORIAN
METHOD:PUBLISH
X-WR-CALNAME:Coacheck
X-ORIGINAL-URL:https://www.coacheck.de
X-WR-CALDESC:Veranstaltungen für Coacheck
REFRESH-INTERVAL;VALUE=DURATION:PT1H
X-Robots-Tag:noindex
X-PUBLISHED-TTL:PT1H
BEGIN:VTIMEZONE
TZID:Europe/Berlin
BEGIN:DAYLIGHT
TZOFFSETFROM:+0100
TZOFFSETTO:+0200
TZNAME:CEST
DTSTART:20250330T010000
END:DAYLIGHT
BEGIN:STANDARD
TZOFFSETFROM:+0200
TZOFFSETTO:+0100
TZNAME:CET
DTSTART:20251026T010000
END:STANDARD
BEGIN:DAYLIGHT
TZOFFSETFROM:+0100
TZOFFSETTO:+0200
TZNAME:CEST
DTSTART:20260329T010000
END:DAYLIGHT
BEGIN:STANDARD
TZOFFSETFROM:+0200
TZOFFSETTO:+0100
TZNAME:CET
DTSTART:20261025T010000
END:STANDARD
BEGIN:DAYLIGHT
TZOFFSETFROM:+0100
TZOFFSETTO:+0200
TZNAME:CEST
DTSTART:20270328T010000
END:DAYLIGHT
BEGIN:STANDARD
TZOFFSETFROM:+0200
TZOFFSETTO:+0100
TZNAME:CET
DTSTART:20271031T010000
END:STANDARD
END:VTIMEZONE
BEGIN:VEVENT
DTSTART;VALUE=DATE:20260502
DTEND;VALUE=DATE:20260504
DTSTAMP:20260422T215519
CREATED:20250213T163656Z
LAST-MODIFIED:20260126T200343Z
UID:36483-1777680000-1777852799@www.coacheck.de
SUMMARY:Jürgen Höller Business Secrets 2026
DESCRIPTION:  \n		\n		 			  \n			 days\n				0\n				0\n			\n			 hours\n				0\n				0\n			\n			 minutes\n				0\n				0\n			\n			 seconds\n				0\n				0\n			\n		\n		\n				\n\n		\nTage             Std.             Min.             Sek.   \n  \n► Jetzt Ticket sichern \n  \nBusiness Secrets 2026 – Dein Weg an die Spitze!\nErlebe zwei intensive Tage voller wertvollen Wissens und Strategien unter dem Motto: „In 2 Tagen zum Marktführer“. Jürgen Höller und Thore Friedrichs zeigen dir\, wie du dein Business erfolgreich skalierst und zur Nummer eins in deiner Branche wirst. \nFreue dich auf brandaktuellen Input zu den wichtigsten Trends – von Künstlicher Intelligenz (KI) über Meta bis hin zu TikTok – und erfahre\, wie du sie gezielt für dein Unternehmen nutzt. \nJürgen Höller verrät dir sein Erfolgsgeheimnis: die richtige Positionierung und erprobte Systeme\, die dich nachhaltig an die Spitze bringen. Thore Friedrichs zeigt dir\, wie du Kunden überzeugst – ohne laute Marktschreierei\, sondern mit geschickter Strategie und der Kunst der Überzeugungskraft.  \nNutze smarte Methoden und die Macht der Empfehlung\, um deinen Erfolg zu maximieren. Mach dich bereit für zwei Tage voller Aha-Momente und praxisnaher Strategien – Business Secrets 2025 bringt dich auf das nächste Level! \nTermine und Veranstaltungsort 2026\n\n\n\n\n\nTermin\nOrt\nLocation\n\n\n\n\n02. – 03. Mai 2026\nSalzburg\nSalzburgarena\n\n\n19. – 20. September 2026\nFrankfurt am Main\nJahrhunderthalle GmbH\, Pfaffenwiese 301\, 65929 Frankfurt am Main\n\n\n \n \n \n\n\n\n\n\n  \nHier bekommst du einen Überblick über alle Termine und Veranstaltungsorte für 2026. Zwei Events sind geplant: Am 2. und 3. Mai findet die Veranstaltung in der Salzburgarena statt. \nWeiter geht es am 19. und 20. September im Kultur- und Kongresszentrum Jahrhunderthalle in Frankfurt am Main (Pfaffenwiese 301\, 65929 Frankfurt am Main). \nTickets & Preise 2026\nDas Gold Ticket gewährt dir vollen Zugang zum Event\, ein exklusives Workbook und die Chance\, mit Unternehmern aus verschiedenen Branchen zu networken. Regulär kostet es 147 €\, doch mit dem Frühbucherrabatt bekommst du es für nur 49 €.  \nDas VIP Ticket bietet zusätzlich erstklassige Sitzplätze in Bühnennähe und Zugang zum Priority Check-in\, sodass du Wartezeiten vermeidest und erst 15 Minuten vor Beginn erscheinen musst. Dieses Premium-Erlebnis kostet regulär 999 €\, doch als Frühbucher sicherst du es dir für nur 697 €. \n \nTicket kaufen mit Gutscheincode\nSpare jede Menge Geld! Mit diesen Gutscheincodes sparst du über 30% auf dein Ticket: \n\nGold Ticket: bsearly\nVIP-Ticket: bsearlyvip\n\n\nWeitere Informationen\n\nNähere Informationen findest du auf der Webseite der Veranstaltung:   \n   \n► Weitere Informationen zum Event \n 
URL:https://www.coacheck.de/event/juergen-hoeller-business-secrets/
LOCATION:Salzburgarena\, Salzburg
CATEGORIES:Erfolg,Marketing,Online Marketing,Personal Branding,Persönlichkeitsentwicklung
ATTACH;FMTTYPE=image/jpeg:https://www.coacheck.de/wp-content/uploads/2025/02/Juergen-Hoeller-Business-Secrets-Bild.jpg
END:VEVENT
END:VCALENDAR